View In:
ArcGIS JavaScript
ArcGIS Online Map Viewer
ArcGIS Earth
ArcMap
ArcGIS Pro
View Footprint In:
ArcGIS Online Map Viewer
Service Description:
Map Name: Layers
Legend
All Layers and Tables
Dynamic Legend
Dynamic All Layers
Layers:
-
Other_StatesAnno (0)
-
Localities_Populated_APY (2)
-
PASTORAL_Homesteads (3)
-
APY Lands Label (4)
-
Named Place - Locality (Category 6,9) (5)
-
Populated Places (6)
-
State Borders and Coastline (25)
-
NPWSA Reserves (29)
-
Other States (32)
-
Other States - transparency (33)
-
Dog Fence (34)
-
Prohibited Areas - Woomera and Maralinga (37)
-
Other Prohibited Area (39)
-
Railways (40)
-
LEVEL ID 17 (41)
-
NPWSA Reserve Labels (42)
-
Named Poly Feature Labels (43)
-
Trans Infrastructure Point (Bridge, Footbridge) (44)
-
Shipwreck (45)
-
Caisson (46)
-
Boat Ramp (47)
-
Navigation (48)
-
Lighthouse (49)
-
Building (50)
-
Spot Height (51)
-
Survey Beacon (52)
-
Tank (Other than water) (53)
-
Railway Station (54)
-
Cultural Feature (Small) (55)
-
Transport Infrastructure Point (Bridges, causeways, tunnels) (56)
-
Roads (57)
-
Recreation Trails (58)
-
Ferry Route (59)
-
Parking Bay (60)
-
Rifle Range (61)
-
Levee (62)
-
Embankment, Cutting, Cliff (63)
-
Coastal Infrastructure (64)
-
Lock, Barrage (65)
-
Dam, Weir (66)
-
Fuel Pipeline (67)
-
Water Pipeline (68)
-
Power Line (69)
-
Railways (70)
-
Sand Ridge (71)
-
Cultural Feature (Large) (72)
-
Reeds (73)
-
Suburb (74)
-
Small Miscellaneous Natural Hydrological Feature (75)
-
Small Miscellaneous Cultural Hydrological Feature (76)
-
WaterBody (77)
-
Watercourse (Wide) (78)
-
Water Course (79)
-
Quarry (80)
-
Water Tank (81)
-
Foreshore Flat, Intertidal Flat (82)
-
Rock Ledge, Reef (83)
-
Sewerage Filtration Bed, Effluent Pond, Rubbish Dump,etc (84)
-
Salt Evaporation Pan (85)
-
Rocky Outcrop, Sand Area (86)
-
Marina (87)
-
Mangroves (88)
-
Large Building, Glasshouse (89)
-
Landing Ground (90)
-
Racetrack (91)
-
Fence (92)
-
Contours (93)
-
Orchard, Vineyard, Plantation (Hardwood and Softwood) (94)
-
Builtup Area (95)
-
Recreation Area (Large), Swimming Pool (96)
-
Native Vegetation (97)
-
LEVEL ID 16 (98)
-
NPWSA Reserve Labels (99)
-
Named Poly Feature Labels (100)
-
Transport Infrastructure Point (Bridge, Footbridge) (101)
-
Shipwreck (102)
-
Caisson (103)
-
Boat Ramp (104)
-
Navigation (105)
-
Lighthouse (106)
-
Building (107)
-
Spot Height (108)
-
Survey Beacon (109)
-
Landing Ground Marker (110)
-
Tank (Other than water) (111)
-
Railway Station (112)
-
Cultural Feature (Small) (113)
-
Transport Infrastructure Line (Bridges, causeways, tunnels) (114)
-
Roads (115)
-
Recreation Trails (116)
-
Ferry Route (117)
-
Parking Bay (118)
-
Rifle Range (119)
-
Levee (120)
-
Embankment, Cutting, Cliff (121)
-
Coastal Infrastructure (122)
-
Lock, Barrage (123)
-
Dam, Weir (124)
-
Fuel Pipeline (125)
-
Water Pipeline (126)
-
Power Line (127)
-
Railways (128)
-
Sand Ridge (129)
-
Cultural Feature (Large) (130)
-
Reeds (131)
-
Suburb (132)
-
Small Miscellaneous Natural Hydrological Feature (133)
-
Small Miscellaneous Cultural Hydrological Feature (134)
-
WaterBody (135)
-
Watercourses(Wide) (136)
-
Water Course (137)
-
Quarry (138)
-
Water Tank (139)
-
Foreshore Flat, Intertidal Flat (140)
-
Rock Ledge, Reef (141)
-
Sewerage Filtration Bed, Effluent Pond, Rubbish Dump,etc (142)
-
Salt Evaporation Pan (143)
-
Rocky Outcrop, Sand Area (144)
-
Marina (145)
-
Mangroves (146)
-
Large Building, Glasshouse (147)
-
Landing Ground (148)
-
Racetrack (149)
-
Fence (150)
-
Contours (151)
-
Orchard, Vineyard, Plantation (Hardwood and Softwood) (152)
-
Builtup Area (153)
-
Recreation Area (Large), Swimming Pool (154)
-
Native Vegetation (155)
-
LEVEL ID 15 (156)
-
NPWSA Reserve Labels (157)
-
Named Point Feature Labels (158)
-
Named Poly Feature Labels (159)
-
Transport Infrastructure Point (Bridge, Footbridge) (160)
-
Shipwreck (161)
-
Caisson (162)
-
Boat Ramp (163)
-
Navigation (164)
-
Lighthouse (165)
-
Building (166)
-
Spot Height (167)
-
Survey Beacon (168)
-
Landing Ground Marker (169)
-
Tank (Other than water) (170)
-
Railway Station (171)
-
Cultural Feature (Small) (172)
-
Transport Infrastructure Line (Bridges, causeways, tunnels) (173)
-
Roads (174)
-
Recreation Trails (175)
-
Ferry Route (176)
-
Parking Bay (177)
-
Rifle Range (178)
-
Levee (179)
-
Embankment, Cutting, Cliff (180)
-
Coastal Infrastructure (181)
-
Lock, Barrage (182)
-
Dam, Weir (183)
-
Fuel Pipeline (184)
-
Water Pipeline (185)
-
Power Line (186)
-
Railways (187)
-
Sand Ridge (188)
-
Cultural Feature (Large) (189)
-
Reeds (190)
-
Suburb (191)
-
Small Miscellaneous Natural Hydrological Feature (192)
-
Small Miscellaneous Cultural Hydrological Feature (193)
-
WaterBody (194)
-
Watercourse (Wide) (195)
-
Water Course (196)
-
Quarry (197)
-
Water Tank (198)
-
Foreshore Flat, Intertidal Flat (199)
-
Rock Ledge, Reef (200)
-
Sewerage Filtration Bed, Effluent Pond, Rubbish Dump,etc (201)
-
Salt Evaporation Pan (202)
-
Rocky Outcrop, Sand Area (203)
-
Marina (204)
-
Mangroves (205)
-
Large Building, Glasshouse (206)
-
Landing Ground (207)
-
Racetrack (208)
-
Fence (209)
-
Contours (210)
-
Orchard, Vineyard, Plantation (Hardwood and Softwood) (211)
-
Builtup Area (212)
-
Recreation Area (Large), Swimming Pool (213)
-
Native Vegetation (214)
-
LEVEL ID 14 (215)
-
NPWSA Reserve Labels (216)
-
Named Point Feature Labels (217)
-
Named Poly Feature Labels (218)
-
Transport Infrastructure Point (Bridge, Footbridge) (219)
-
Shipwreck (220)
-
Caisson (221)
-
Boat Ramp (222)
-
Navigation (223)
-
Lighthouse (224)
-
Building (225)
-
Survey Beacon (226)
-
Landing Ground Marker (227)
-
Tank (Other than water) (228)
-
Railway Station (229)
-
Power Line (230)
-
Fuel Pipeline (231)
-
Water Pipeline (232)
-
Transport Infrastructure Line (Bridge, causeway, tunnel) (233)
-
Roads (234)
-
Recreation Trails (235)
-
Ferry Route (236)
-
Parking Bay (237)
-
Rifle Range (238)
-
Levee (239)
-
Embankment, Cutting, Cliff (240)
-
Coastal Infrastructure (241)
-
Lock, Barrage (242)
-
Dam, Weir (243)
-
Railways (244)
-
Sand Ridge (245)
-
Cultural Feature (Large) (246)
-
Reeds (247)
-
Suburb (248)
-
Small Miscellaneous Natural Hydrological Feature (249)
-
Small Miscellaneous Cultural Hydrological Feature (250)
-
WaterBody (251)
-
Watercourse (Wide) (252)
-
Water Course (253)
-
Water Tank (254)
-
Foreshore Flat, Intertidal Flat (255)
-
Rock Ledge, Reef (256)
-
Sewerage Filtration Bed, Effluent Pond, Rubbish Dump, etc (257)
-
Salt Evaporation Pan (258)
-
Quarry (259)
-
Rocky Outcrop, Sand Area (260)
-
Marina (261)
-
Mangroves (262)
-
Large Building, Glasshouse (263)
-
Landing Ground (264)
-
Racetrack (265)
-
Fence (266)
-
Orchard, Vineyard, Plantation (Hardwood and Softwood) (267)
-
Builtup Area (268)
-
Recreation Area (Large), Swimming Pool (269)
-
Native Vegetation (270)
-
LEVEL ID 13 (271)
-
NPWSA Reserve Labels (272)
-
Named Point Feature Labels (273)
-
Named Poly Feature Labels (274)
-
Shipwrecks (275)
-
Caisson (276)
-
Boat Ramp (277)
-
Navigation (278)
-
Landing Ground Marker (279)
-
Tank (Other than water) (280)
-
Railway Station (281)
-
Fuel Pipeline (282)
-
Water Pipeline (283)
-
Power Line (284)
-
Transport Infrastructure Line (Bridge, Causeway, Tunnel) (285)
-
Roads (286)
-
Recreation Trails (287)
-
Ferry Route (288)
-
Parking Bay (289)
-
Rifle Range (290)
-
Levee (291)
-
Embankment, Cutting, Cliff (292)
-
Coastal Infrastructure (293)
-
Lock, Barrage (294)
-
Dam, Weir (295)
-
Railways (296)
-
Sand Ridge (297)
-
Reeds (298)
-
Small Miscellaneous Natural Hydrological Features (299)
-
Small Miscellaneous Cultural Hydrological Features (300)
-
WaterBody (301)
-
Watercourse (Wide) (302)
-
Water Course (303)
-
Quarry (304)
-
Water Tank (305)
-
Foreshore Flat, Intertidal Flat (306)
-
Rock Ledge, Reef (307)
-
Sewerage Filtration Bed, Effluent Pond, Rubbish Dump,etc (308)
-
Salt Evaporation Pan (309)
-
Rocky Outcrop, Sand Area (310)
-
Marina (311)
-
Mangroves (312)
-
Large Building, Glasshouse (313)
-
Landing Ground (314)
-
Racetrack (315)
-
Fence (316)
-
Orchard, Vineyard, Plantation (Hardwood and Softwood) (317)
-
Builtup Area (318)
-
Recreation Area (Large), Swimming Pool (319)
-
Native Vegetation (320)
-
LEVEL ID 12 (321)
-
NPWSA Reserve Labels (322)
-
Island Labels (323)
-
Named Point FeatureLabels (324)
-
Named Poly Feature Labels (325)
-
Navigation (326)
-
Lighthouse (327)
-
Tank (Other than water) (328)
-
Railway Station (329)
-
Water Pipeline (330)
-
Fuel Pipeline (331)
-
Transport Infrastructure Line (Bridge, Causeway, Tunnel) (332)
-
Roads (333)
-
Roads (CRRS) (334)
-
Embankments, Cuttings, Cliffs (335)
-
Coastal Infrastructure (336)
-
Lock, Barrage (337)
-
Dam, Weir (338)
-
Parking Bay (339)
-
Ferry Route (340)
-
Racetrack (341)
-
Fence (342)
-
Power Line (343)
-
Levee Bank (344)
-
Railways (345)
-
Landing Ground (346)
-
Reeds (347)
-
WaterBody (348)
-
Watercourse (Wide) (349)
-
Water Tank (350)
-
Foreshore Flat, Intertidal Flat (351)
-
Rock Ledge, Reef (352)
-
Sewerage Filtration Bed, Effluent Pond, Rubbish Dump,etc (353)
-
Salt Evaporation Pan (354)
-
Orchard, Vineyard, Plantation (Hardwood and Softwood) (355)
-
Builtup Area (356)
-
Recreation Area (Large), Swimming Pool (357)
-
Native Vegetation (358)
-
LEVEL ID 11 (359)
-
LEVEL ID 10 (375)
-
LEVEL ID 9 (391)
-
LEVEL ID 8 (401)
-
LEVEL ID 7 (410)
-
LEVEL ID 6 (418)
-
LEVEL ID 5 (424)
-
South East 10m Hillshade (431)
-
Adelaide Hills 10m Hillshade (432)
-
Statewide 30m Hillshade (433)
-
SeaMask (434)
-
Statewide Hillshade 500m (435)
-
SA Infill (436)
-
SeaBackground (440)
Description:
Copyright Text:
Spatial Reference:
102100
(3857)
LatestVCSWkid(0)
Single Fused Map Cache: true
Tile Info:
- Height: 256
- Width: 256
- DPI: 96
-
Levels of Detail: 21
-
Level ID: 0
[ Start Tile, End Tile ]
- Resolution: 156543.03392800014
- Scale: 5.91657527591555E8
-
Level ID: 1
[ Start Tile, End Tile ]
- Resolution: 78271.51696399994
- Scale: 2.95828763795777E8
-
Level ID: 2
[ Start Tile, End Tile ]
- Resolution: 39135.75848200009
- Scale: 1.47914381897889E8
-
Level ID: 3
[ Start Tile, End Tile ]
- Resolution: 19567.87924099992
- Scale: 7.3957190948944E7
-
Level ID: 4
[ Start Tile, End Tile ]
- Resolution: 9783.93962049996
- Scale: 3.6978595474472E7
-
Level ID: 5
[ Start Tile, End Tile ]
- Resolution: 4891.96981024998
- Scale: 1.8489297737236E7
- Format: PNG
- Compression Quality: 0.0
- Origin: X: -2.0037508342787E7
Y: 2.0037508342787E7
- Spatial Reference: 102100
(3857)
LatestVCSWkid(0)
Initial Extent:
XMin: 1.3884092344976425E7
YMin: -3928626.88152473
XMax: 1.640590278216029E7
YMax: -2979584.738336234
Spatial Reference: 102100
(0)
LatestVCSWkid(0)
Full Extent:
XMin: 1.2268321746789226E7
YMin: -5563300.95604801
XMax: 1.7199964122470666E7
YMax: -967906.9241630323
Spatial Reference: 102100
(0)
LatestVCSWkid(0)
Units: esriMeters
Supported Image Format Types: PNG32,PNG24,PNG,JPG,DIB,TIFF,EMF,PS,PDF,GIF,SVG,SVGZ,BMP
Document Info:
Title:
Author:
Comments:
Subject:
Category:
Keywords:
AntialiasingMode: Best
TextAntialiasingMode: Force
Supports Dynamic Layers: true
Resampling: false
MaxRecordCount: 1000
MaxImageHeight: 4096
MaxImageWidth: 4096
Supported Query Formats: JSON, geoJSON
Supports Query Data Elements:
Min Scale: 3.6978595474472E7
Max Scale: 4513.988705
Supports Datum Transformation: true
Child Resources:
Info
Dynamic Layer
Supported Operations:
Export Map
Identify
QueryLegends
QueryDomains
Find
Return Updates